BEGIN:VCALENDAR
VERSION:2.0
PRODID:-//Tukios.com/
BEGIN:VEVENT
UID:56fed84f-32a5-447c-9563-240140bc884c@www.ballarddurand.com
DTSTAMP:20260423T185816Z
DTSTART:20260427T140000Z
DTEND:20260427T170000Z
SUMMARY:Visitation
DESCRIPTION:
URL:https://www.ballarddurand.com/obituaries/inge-watkins
LOCATION:Ballard-Durand Funeral & Cremation Services 2 Maple Ave.  White 
	Plains NY 10601
GEO:41.0287652;-73.7626728
END:VEVENT
END:VCALENDAR