BEGIN:VCALENDAR
VERSION:2.0
PRODID:-//Tukios.com/
BEGIN:VEVENT
UID:9e86b206-98a4-4cf0-9e9a-e770a149a9dd@www.ballarddurand.com
DTSTAMP:20260423T190014Z
DTSTART:20260427T174500Z
DTEND:20260427T181500Z
SUMMARY:Burial
DESCRIPTION:
URL:https://www.ballarddurand.com/obituaries/inge-watkins
LOCATION:Mount Hope Cemetery 50 Jackson Avenue at Saw Mill River Road 
	Hastings On Hudson NY 10706
GEO:40.9874646;-73.8622082
END:VEVENT
END:VCALENDAR