BEGIN:VCALENDAR
VERSION:2.0
PRODID:-//Tukios.com/
BEGIN:VEVENT
UID:42866cde-49bf-4aab-8159-a6dcaa5fd36b@www.ballarddurand.com
DTSTAMP:20260423T094821Z
DTSTART:20260423T200000Z
DTEND:20260424T000000Z
SUMMARY:Visitation
DESCRIPTION:
URL:https://www.ballarddurand.com/obituaries/george-sanossian
LOCATION:Ballard-Durand Funeral & Cremation Services 2 Maple Ave.  White 
	Plains NY 10601
GEO:41.0287652;-73.7626728
END:VEVENT
END:VCALENDAR