BEGIN:VCALENDAR
VERSION:2.0
PRODID:-//Tukios.com/
BEGIN:VEVENT
UID:a843ed85-0864-4aad-961e-06971ae67e9b@www.ballarddurand.com
DTSTAMP:20260423T095005Z
DTSTART:20260424T153000Z
DTEND:20260424T163000Z
SUMMARY:Funeral Mass
DESCRIPTION:
URL:https://www.ballarddurand.com/obituaries/george-sanossian
LOCATION:St. Gregory Armenian Church 1131 North Street  White Plains NY 
	10605
GEO:41.0008323;-73.7288288
END:VEVENT
END:VCALENDAR