BEGIN:VCALENDAR
VERSION:2.0
PRODID:-//Tukios.com/
BEGIN:VEVENT
UID:cc6a8229-04ea-4ae2-956d-90cad2f0e375@www.ballarddurand.com
DTSTAMP:20260420T211531Z
DTSTART:20260422T200000Z
DTEND:20260423T000000Z
SUMMARY:Visitation
DESCRIPTION:
URL:https://www.ballarddurand.com/obituaries/carlos-torres
LOCATION:Ballard-Durand Funeral & Cremation Services (Elmsford) 72 E Main 
	Street  Elmsford NY 10523
GEO:41.0532046;-73.8161976
END:VEVENT
END:VCALENDAR