BEGIN:VCALENDAR
VERSION:2.0
PRODID:-//Tukios.com/
BEGIN:VEVENT
UID:e4016dd4-f71b-4ef2-9ade-d23aa0dbd0b7@www.ballarddurand.com
DTSTAMP:20260421T190323Z
DTSTART:20260424T153000Z
DTEND:20260424T160000Z
SUMMARY:Burial
DESCRIPTION:
URL:https://www.ballarddurand.com/obituaries/bernard-most
LOCATION: 273 Lakeview Avenue  Valhalla NY 0595
GEO:41.0831819;-73.7848556
END:VEVENT
END:VCALENDAR